BEGIN:VCALENDAR
VERSION:2.0
PRODID:-//Vänsterpartiet Oskarshamn - ECPv6.15.17.1//NONSGML v1.0//EN
CALSCALE:GREGORIAN
METHOD:PUBLISH
X-WR-CALNAME:Vänsterpartiet Oskarshamn
X-ORIGINAL-URL:https://oskarshamn.vansterpartiet.se
X-WR-CALDESC:Händelser för Vänsterpartiet Oskarshamn
REFRESH-INTERVAL;VALUE=DURATION:PT1H
X-Robots-Tag:noindex
X-PUBLISHED-TTL:PT1H
BEGIN:VTIMEZONE
TZID:Europe/Stockholm
BEGIN:DAYLIGHT
TZOFFSETFROM:+0100
TZOFFSETTO:+0200
TZNAME:CEST
DTSTART:20250330T010000
END:DAYLIGHT
BEGIN:STANDARD
TZOFFSETFROM:+0200
TZOFFSETTO:+0100
TZNAME:CET
DTSTART:20251026T010000
END:STANDARD
BEGIN:DAYLIGHT
TZOFFSETFROM:+0100
TZOFFSETTO:+0200
TZNAME:CEST
DTSTART:20260329T010000
END:DAYLIGHT
BEGIN:STANDARD
TZOFFSETFROM:+0200
TZOFFSETTO:+0100
TZNAME:CET
DTSTART:20261025T010000
END:STANDARD
BEGIN:DAYLIGHT
TZOFFSETFROM:+0100
TZOFFSETTO:+0200
TZNAME:CEST
DTSTART:20270328T010000
END:DAYLIGHT
BEGIN:STANDARD
TZOFFSETFROM:+0200
TZOFFSETTO:+0100
TZNAME:CET
DTSTART:20271031T010000
END:STANDARD
END:VTIMEZONE
BEGIN:VEVENT
DTSTART;TZID=Europe/Stockholm:20261202T170000
DTEND;TZID=Europe/Stockholm:20261202T190000
DTSTAMP:20260421T074451
CREATED:20251215T095936Z
LAST-MODIFIED:20251215T100049Z
UID:2291-1796230800-1796238000@oskarshamn.vansterpartiet.se
SUMMARY:Medlemscafé
DESCRIPTION:Alla medlemmar och sympatisörer är välkomna med drop-in mellan kl 17-19. Vi håller till i vår partilokal på Södra Fabriksgatan 20\, två trappor upp där vi fikar och pratar om allt möjligt mellan himmel och jord.\n-Välkomna!
URL:https://oskarshamn.vansterpartiet.se/event/medlemscafe-37/
LOCATION:Partilokalen\, Södra Fabriksgatan 20\, Oskarshamn
ATTACH;FMTTYPE=image/jpeg:https://oskarshamn.vansterpartiet.se/files/2018/05/34653983-BA4A-4BFA-A493-1DBD92C75B72-e1701943746922.jpeg
END:VEVENT
BEGIN:VEVENT
DTSTART;TZID=Europe/Stockholm:20261214T180000
DTEND;TZID=Europe/Stockholm:20261214T200000
DTSTAMP:20260421T074451
CREATED:20251215T093536Z
LAST-MODIFIED:20251215T093536Z
UID:2269-1797271200-1797278400@oskarshamn.vansterpartiet.se
SUMMARY:Gruppmöte
DESCRIPTION:Gruppmöte öppet för medlemmar.\nHär går vi igenom handlingarna inför kommunstyrelsen.
URL:https://oskarshamn.vansterpartiet.se/event/gruppmote-41/
LOCATION:Kommunhuset\, Döderhultsrummet
ATTACH;FMTTYPE=image/jpeg:https://oskarshamn.vansterpartiet.se/files/2023/04/v-tillsammans-scaled-e1682346109732.jpg
END:VEVENT
END:VCALENDAR