BEGIN:VCALENDAR
VERSION:2.0
PRODID:-//Vänsterpartiet Oskarshamn - ECPv6.15.17.1//NONSGML v1.0//EN
CALSCALE:GREGORIAN
METHOD:PUBLISH
X-ORIGINAL-URL:https://oskarshamn.vansterpartiet.se
X-WR-CALDESC:Händelser för Vänsterpartiet Oskarshamn
REFRESH-INTERVAL;VALUE=DURATION:PT1H
X-Robots-Tag:noindex
X-PUBLISHED-TTL:PT1H
BEGIN:VTIMEZONE
TZID:Europe/Stockholm
BEGIN:DAYLIGHT
TZOFFSETFROM:+0100
TZOFFSETTO:+0200
TZNAME:CEST
DTSTART:20230326T010000
END:DAYLIGHT
BEGIN:STANDARD
TZOFFSETFROM:+0200
TZOFFSETTO:+0100
TZNAME:CET
DTSTART:20231029T010000
END:STANDARD
BEGIN:DAYLIGHT
TZOFFSETFROM:+0100
TZOFFSETTO:+0200
TZNAME:CEST
DTSTART:20240331T010000
END:DAYLIGHT
BEGIN:STANDARD
TZOFFSETFROM:+0200
TZOFFSETTO:+0100
TZNAME:CET
DTSTART:20241027T010000
END:STANDARD
BEGIN:DAYLIGHT
TZOFFSETFROM:+0100
TZOFFSETTO:+0200
TZNAME:CEST
DTSTART:20250330T010000
END:DAYLIGHT
BEGIN:STANDARD
TZOFFSETFROM:+0200
TZOFFSETTO:+0100
TZNAME:CET
DTSTART:20251026T010000
END:STANDARD
END:VTIMEZONE
BEGIN:VEVENT
DTSTART;TZID=Europe/Stockholm:20240902T180000
DTEND;TZID=Europe/Stockholm:20240902T200000
DTSTAMP:20260421T223621
CREATED:20231207T095528Z
LAST-MODIFIED:20240726T171828Z
UID:1955-1725300000-1725307200@oskarshamn.vansterpartiet.se
SUMMARY:Gruppmöte
DESCRIPTION:Öppet gruppmöte för alla medlemmar. Här går vi igenom handlingarna inför Kommunstyrelsens möte\, samt andra aktuella ärenden i de olika nämnderna och utskotten.
URL:https://oskarshamn.vansterpartiet.se/event/gruppmote-15/
LOCATION:Kommunhuset\, Döderhultsrummet
ATTACH;FMTTYPE=image/jpeg:https://oskarshamn.vansterpartiet.se/files/2023/04/v-tillsammans-scaled-e1682346109732.jpg
END:VEVENT
BEGIN:VEVENT
DTSTART;TZID=Europe/Stockholm:20240904T080000
DTEND;TZID=Europe/Stockholm:20240904T170000
DTSTAMP:20260421T223621
CREATED:20231207T101620Z
LAST-MODIFIED:20231207T101620Z
UID:1978-1725436800-1725469200@oskarshamn.vansterpartiet.se
SUMMARY:Medlemscafé
DESCRIPTION:Alla medlemmar och sympatisörer är välkomna med drop-in mellan kl 17-19. Vi håller till i vår partilokal på Södra Fabriksgatan 20\, två trappor upp där vi fikar och pratar om allt möjligt mellan himmel och jord.\n-Välkomna!
URL:https://oskarshamn.vansterpartiet.se/event/medlemscafe-14/
LOCATION:Partilokalen\, Södra Fabriksgatan 20\, Oskarshamn
ATTACH;FMTTYPE=image/jpeg:https://oskarshamn.vansterpartiet.se/files/2018/05/34653983-BA4A-4BFA-A493-1DBD92C75B72-e1701943746922.jpeg
END:VEVENT
BEGIN:VEVENT
DTSTART;TZID=Europe/Stockholm:20240907T130000
DTEND;TZID=Europe/Stockholm:20240907T170000
DTSTAMP:20260421T223621
CREATED:20240902T150455Z
LAST-MODIFIED:20240902T150648Z
UID:2062-1725714000-1725728400@oskarshamn.vansterpartiet.se
SUMMARY:Oskarshamn Pride
DESCRIPTION:Lördag 7 September är det dags för årets Pride-tåg i Oskarshamn. \nKl 13.00-15.00 är det ”Pre-Pride” i stadsparken.\nKl 15.00 ställer vi upp i tåget för avmarsch 15.30. \n-Kom och gå med oss för allas rätt att vara sig själv!
URL:https://oskarshamn.vansterpartiet.se/event/oskarshamn-pride/
LOCATION:Stadsparken
CATEGORIES:Aktivitet
ATTACH;FMTTYPE=image/jpeg:https://oskarshamn.vansterpartiet.se/files/2022/10/308622982_397806715866868_7025210797454069095_n-e1725289479583.jpg
END:VEVENT
BEGIN:VEVENT
DTSTART;TZID=Europe/Stockholm:20240930T180000
DTEND;TZID=Europe/Stockholm:20240930T200000
DTSTAMP:20260421T223621
CREATED:20231207T095610Z
LAST-MODIFIED:20231207T095621Z
UID:1957-1727719200-1727726400@oskarshamn.vansterpartiet.se
SUMMARY:Gruppmöte
DESCRIPTION:Öppet gruppmöte för alla medlemmar. Här går vi igenom handlingarna inför Kommunstyrelsens möte\, samt andra aktuella ärenden i de olika nämnderna och utskotten.
URL:https://oskarshamn.vansterpartiet.se/event/gruppmote-16/
LOCATION:Kommunhuset\, Döderhultsrummet
ATTACH;FMTTYPE=image/jpeg:https://oskarshamn.vansterpartiet.se/files/2023/04/v-tillsammans-scaled-e1682346109732.jpg
END:VEVENT
END:VCALENDAR