BEGIN:VCALENDAR
VERSION:2.0
PRODID:-//Vänsterpartiet Oskarshamn - ECPv6.15.17.1//NONSGML v1.0//EN
CALSCALE:GREGORIAN
METHOD:PUBLISH
X-WR-CALNAME:Vänsterpartiet Oskarshamn
X-ORIGINAL-URL:https://oskarshamn.vansterpartiet.se
X-WR-CALDESC:Händelser för Vänsterpartiet Oskarshamn
REFRESH-INTERVAL;VALUE=DURATION:PT1H
X-Robots-Tag:noindex
X-PUBLISHED-TTL:PT1H
BEGIN:VTIMEZONE
TZID:Europe/Stockholm
BEGIN:DAYLIGHT
TZOFFSETFROM:+0100
TZOFFSETTO:+0200
TZNAME:CEST
DTSTART:20230326T010000
END:DAYLIGHT
BEGIN:STANDARD
TZOFFSETFROM:+0200
TZOFFSETTO:+0100
TZNAME:CET
DTSTART:20231029T010000
END:STANDARD
BEGIN:DAYLIGHT
TZOFFSETFROM:+0100
TZOFFSETTO:+0200
TZNAME:CEST
DTSTART:20240331T010000
END:DAYLIGHT
BEGIN:STANDARD
TZOFFSETFROM:+0200
TZOFFSETTO:+0100
TZNAME:CET
DTSTART:20241027T010000
END:STANDARD
BEGIN:DAYLIGHT
TZOFFSETFROM:+0100
TZOFFSETTO:+0200
TZNAME:CEST
DTSTART:20250330T010000
END:DAYLIGHT
BEGIN:STANDARD
TZOFFSETFROM:+0200
TZOFFSETTO:+0100
TZNAME:CET
DTSTART:20251026T010000
END:STANDARD
END:VTIMEZONE
BEGIN:VEVENT
DTSTART;TZID=Europe/Stockholm:20240605T170000
DTEND;TZID=Europe/Stockholm:20240605T190000
DTSTAMP:20260422T020915
CREATED:20231207T101324Z
LAST-MODIFIED:20240603T045555Z
UID:1974-1717606800-1717614000@oskarshamn.vansterpartiet.se
SUMMARY:Medlemscafé
DESCRIPTION:Alla medlemmar och sympatisörer är välkomna med drop-in mellan kl 17-19. Vi håller till i vår partilokal på Södra Fabriksgatan 20\, två trappor upp där vi fikar och pratar om allt möjligt mellan himmel och jord.\n-Välkomna!
URL:https://oskarshamn.vansterpartiet.se/event/medlemscafe-12/
LOCATION:Partilokalen\, Södra Fabriksgatan 20\, Oskarshamn
ATTACH;FMTTYPE=image/jpeg:https://oskarshamn.vansterpartiet.se/files/2018/05/34653983-BA4A-4BFA-A493-1DBD92C75B72-e1701943746922.jpeg
END:VEVENT
BEGIN:VEVENT
DTSTART;TZID=Europe/Stockholm:20240612T170000
DTEND;TZID=Europe/Stockholm:20240612T210000
DTSTAMP:20260422T020915
CREATED:20240307T150646Z
LAST-MODIFIED:20240405T131217Z
UID:2027-1718211600-1718226000@oskarshamn.vansterpartiet.se
SUMMARY:Medlemsmöte om arenaprojektet & Budgetmöte
DESCRIPTION:Vi får information om arenaprojektet av kommundirektör Henrik Andersson.\nDärefter går vi igenom driftbudget 2025.\nVi går igenom majoritetens förslag till budget och vilka ändringar vi vill göra.
URL:https://oskarshamn.vansterpartiet.se/event/budgetmote/
LOCATION:Kommunhuset\, Döderhultsrummet
ATTACH;FMTTYPE=image/jpeg:https://oskarshamn.vansterpartiet.se/files/2022/04/VOskarshamn.jpg
END:VEVENT
BEGIN:VEVENT
DTSTART;TZID=Europe/Stockholm:20240617T180000
DTEND;TZID=Europe/Stockholm:20240617T200000
DTSTAMP:20260422T020915
CREATED:20231207T095435Z
LAST-MODIFIED:20231207T095446Z
UID:1953-1718647200-1718654400@oskarshamn.vansterpartiet.se
SUMMARY:Gruppmöte
DESCRIPTION:Öppet gruppmöte för alla medlemmar. Här går vi igenom handlingarna inför Kommunstyrelsens möte\, samt andra aktuella ärenden i de olika nämnderna och utskotten.
URL:https://oskarshamn.vansterpartiet.se/event/gruppmote-14/
LOCATION:Kommunhuset\, Döderhultsrummet
ATTACH;FMTTYPE=image/jpeg:https://oskarshamn.vansterpartiet.se/files/2023/04/v-tillsammans-scaled-e1682346109732.jpg
END:VEVENT
END:VCALENDAR