BEGIN:VCALENDAR
VERSION:2.0
PRODID:-//Vänsterpartiet Oskarshamn - ECPv6.15.17.1//NONSGML v1.0//EN
CALSCALE:GREGORIAN
METHOD:PUBLISH
X-ORIGINAL-URL:https://oskarshamn.vansterpartiet.se
X-WR-CALDESC:Händelser för Vänsterpartiet Oskarshamn
REFRESH-INTERVAL;VALUE=DURATION:PT1H
X-Robots-Tag:noindex
X-PUBLISHED-TTL:PT1H
BEGIN:VTIMEZONE
TZID:Europe/Stockholm
BEGIN:DAYLIGHT
TZOFFSETFROM:+0100
TZOFFSETTO:+0200
TZNAME:CEST
DTSTART:20220327T010000
END:DAYLIGHT
BEGIN:STANDARD
TZOFFSETFROM:+0200
TZOFFSETTO:+0100
TZNAME:CET
DTSTART:20221030T010000
END:STANDARD
BEGIN:DAYLIGHT
TZOFFSETFROM:+0100
TZOFFSETTO:+0200
TZNAME:CEST
DTSTART:20230326T010000
END:DAYLIGHT
BEGIN:STANDARD
TZOFFSETFROM:+0200
TZOFFSETTO:+0100
TZNAME:CET
DTSTART:20231029T010000
END:STANDARD
BEGIN:DAYLIGHT
TZOFFSETFROM:+0100
TZOFFSETTO:+0200
TZNAME:CEST
DTSTART:20240331T010000
END:DAYLIGHT
BEGIN:STANDARD
TZOFFSETFROM:+0200
TZOFFSETTO:+0100
TZNAME:CET
DTSTART:20241027T010000
END:STANDARD
END:VTIMEZONE
BEGIN:VEVENT
DTSTART;TZID=Europe/Stockholm:20230705T170000
DTEND;TZID=Europe/Stockholm:20230705T190000
DTSTAMP:20260422T174136
CREATED:20230424T070446Z
LAST-MODIFIED:20230424T070446Z
UID:1813-1688576400-1688583600@oskarshamn.vansterpartiet.se
SUMMARY:Medlemscafé
DESCRIPTION:Alla medlemmar och sympatisörer är välkomna med drop-in mellan kl 17-19. Vi håller till i vår partilokal på Södra Fabriksgatan 20\, två trappor upp där vi fikar och pratar om allt möjligt mellan himmel och jord.\n-Välkomna!
URL:https://oskarshamn.vansterpartiet.se/event/medlemscafe-4/
LOCATION:Partilokalen\, Södra Fabriksgatan 20\, Oskarshamn
ATTACH;FMTTYPE=image/jpeg:https://oskarshamn.vansterpartiet.se/files/2018/05/34653983-BA4A-4BFA-A493-1DBD92C75B72-e1701943746922.jpeg
END:VEVENT
BEGIN:VEVENT
DTSTART;VALUE=DATE:20230712
DTEND;VALUE=DATE:20230713
DTSTAMP:20260422T174136
CREATED:20230625T113246Z
LAST-MODIFIED:20230625T113611Z
UID:1896-1689120000-1689206399@oskarshamn.vansterpartiet.se
SUMMARY:Vänsterpartiet på Figeholms marknad
DESCRIPTION:Träffa Vänsterpartiet på Figeholms sommarmarknad!
URL:https://oskarshamn.vansterpartiet.se/event/vansterpartiet-pa-figeholms-marknad/
LOCATION:Figeholm
ATTACH;FMTTYPE=image/jpeg:https://oskarshamn.vansterpartiet.se/files/2023/03/IMG_0072.jpg
END:VEVENT
BEGIN:VEVENT
DTSTART;VALUE=DATE:20230721
DTEND;VALUE=DATE:20230722
DTSTAMP:20260422T174136
CREATED:20230425T102024Z
LAST-MODIFIED:20230720T110150Z
UID:1861-1689897600-1689983999@oskarshamn.vansterpartiet.se
SUMMARY:INSTÄLLT: Vänsterpartiet på Kristdala Marknad
DESCRIPTION:Dessvärre måste vi ställa in vår medverkan på Kristdala marknad. \n😔
URL:https://oskarshamn.vansterpartiet.se/event/vansterpartiet-pa-kristdala-marknad/
LOCATION:Kristdala\, Kristdala\, Oskarshamn
ATTACH;FMTTYPE=image/jpeg:https://oskarshamn.vansterpartiet.se/files/2023/03/IMG_1115-scaled-e1682417822406.jpg
END:VEVENT
END:VCALENDAR