BEGIN:VCALENDAR
VERSION:2.0
PRODID:-//Vänsterpartiet Oskarshamn - ECPv6.15.17.1//NONSGML v1.0//EN
CALSCALE:GREGORIAN
METHOD:PUBLISH
X-WR-CALNAME:Vänsterpartiet Oskarshamn
X-ORIGINAL-URL:https://oskarshamn.vansterpartiet.se
X-WR-CALDESC:Händelser för Vänsterpartiet Oskarshamn
REFRESH-INTERVAL;VALUE=DURATION:PT1H
X-Robots-Tag:noindex
X-PUBLISHED-TTL:PT1H
BEGIN:VTIMEZONE
TZID:Europe/Stockholm
BEGIN:DAYLIGHT
TZOFFSETFROM:+0100
TZOFFSETTO:+0200
TZNAME:CEST
DTSTART:20220327T010000
END:DAYLIGHT
BEGIN:STANDARD
TZOFFSETFROM:+0200
TZOFFSETTO:+0100
TZNAME:CET
DTSTART:20221030T010000
END:STANDARD
BEGIN:DAYLIGHT
TZOFFSETFROM:+0100
TZOFFSETTO:+0200
TZNAME:CEST
DTSTART:20230326T010000
END:DAYLIGHT
BEGIN:STANDARD
TZOFFSETFROM:+0200
TZOFFSETTO:+0100
TZNAME:CET
DTSTART:20231029T010000
END:STANDARD
BEGIN:DAYLIGHT
TZOFFSETFROM:+0100
TZOFFSETTO:+0200
TZNAME:CEST
DTSTART:20240331T010000
END:DAYLIGHT
BEGIN:STANDARD
TZOFFSETFROM:+0200
TZOFFSETTO:+0100
TZNAME:CET
DTSTART:20241027T010000
END:STANDARD
END:VTIMEZONE
BEGIN:VEVENT
DTSTART;TZID=Europe/Stockholm:20230501T130000
DTEND;TZID=Europe/Stockholm:20230501T153000
DTSTAMP:20260422T202557
CREATED:20230424T064729Z
LAST-MODIFIED:20230425T092933Z
UID:1805-1682946000-1682955000@oskarshamn.vansterpartiet.se
SUMMARY:1 Maj i Kalmar län
DESCRIPTION:Fira 1 maj med Vänsterpartiet Kalmar län!\nVänsterpartiet arrangerar Kalmar läns största 1 maj-firande.\nVi från Oskarshamn samåker och samlas kl. 12.00 utanför vår partilokal i Primohuset för vidare färd ner mot Kalmar.\nTIDER FÖR DAGEN\n13:00 Samling på Stortorget\n13.30 Avmarsch för demonstrationståget\n14:00 Firandet startar på scenen i Stadsparken\nProgram vid scenen i stadsparken\nHuvudtalare: Ilona Szatmari Waldau\, Riksdagsledamot\nLokal talare: Lilian Akthagen\, Ordförande Kommunal Kalmar och Vänsterpartiet Kalmar\nUng Vänster: Luna Samra och Mio Lindström\nMusik: Udda Fåglar – en grupp visartister från Visskolan i Kungälv.\nKonferencier: Lena Granath\nFika finns!\nVälkommen!
URL:https://oskarshamn.vansterpartiet.se/event/1-maj-i-kalmar-lan/
LOCATION:Stortorget\, Kalmar\, Stortorget\, Kalmar
ATTACH;FMTTYPE=image/jpeg:https://oskarshamn.vansterpartiet.se/files/2022/04/vbanderollohamn-e1682346470681.jpg
END:VEVENT
BEGIN:VEVENT
DTSTART;TZID=Europe/Stockholm:20230503T170000
DTEND;TZID=Europe/Stockholm:20230503T190000
DTSTAMP:20260422T202557
CREATED:20230424T063442Z
LAST-MODIFIED:20230424T070143Z
UID:1788-1683133200-1683140400@oskarshamn.vansterpartiet.se
SUMMARY:Medlemscafé
DESCRIPTION:Alla medlemmar och sympatisörer är välkomna med drop-in mellan kl 17-19. Vi håller till i vår partilokal på Södra Fabriksgatan 20\, två trappor upp där vi fikar och pratar om allt möjligt mellan himmel och jord.\n-Välkomna! \n 
URL:https://oskarshamn.vansterpartiet.se/event/medlemscafe-2/
LOCATION:Partilokalen\, Södra Fabriksgatan 20\, Oskarshamn
ATTACH;FMTTYPE=image/jpeg:https://oskarshamn.vansterpartiet.se/files/2018/05/34653983-BA4A-4BFA-A493-1DBD92C75B72-e1701943746922.jpeg
END:VEVENT
BEGIN:VEVENT
DTSTART;TZID=Europe/Stockholm:20230511T180000
DTEND;TZID=Europe/Stockholm:20230511T200000
DTSTAMP:20260422T202557
CREATED:20230424T071914Z
LAST-MODIFIED:20230427T185300Z
UID:1825-1683828000-1683835200@oskarshamn.vansterpartiet.se
SUMMARY:Medlemsmöte
DESCRIPTION:Företaget Cloudberry Offshore Wind AB avser att ansöka om tillstånd för att etablera en vindkraftspark i Kalmarsund öster om Simpevarp. \n11 maj mellan 18-20 kommer de till Oskarshamnssalen för att informera oss om projektet. \nVi kommer här att få en fördjupad information och möjlighet att såväl ställa frågor som att föra en diskussion. \n– Så passa på att få information om vindkraft i allmänhet\, och detta projekt i synnerhet!
URL:https://oskarshamn.vansterpartiet.se/event/medlemsmote/
LOCATION:Kommunhuset\, Oskarshamnssalen
ATTACH;FMTTYPE=image/jpeg:https://oskarshamn.vansterpartiet.se/files/2023/04/Vindkraft-e1682344787638.jpg
END:VEVENT
BEGIN:VEVENT
DTSTART;TZID=Europe/Stockholm:20230522T180000
DTEND;TZID=Europe/Stockholm:20230522T200000
DTSTAMP:20260422T202557
CREATED:20230424T063900Z
LAST-MODIFIED:20230424T142021Z
UID:1791-1684778400-1684785600@oskarshamn.vansterpartiet.se
SUMMARY:Gruppmöte
DESCRIPTION:Öppet gruppmöte för alla medlemmar. Här går vi igenom handlingarna inför Kommunstyrelsens möte\, samt andra aktuella ärenden i de olika nämnderna och utskotten.
URL:https://oskarshamn.vansterpartiet.se/event/gruppmote-2/
LOCATION:Kommunhuset\, Döderhultsrummet
ATTACH;FMTTYPE=image/jpeg:https://oskarshamn.vansterpartiet.se/files/2023/04/v-tillsammans-scaled-e1682346109732.jpg
END:VEVENT
BEGIN:VEVENT
DTSTART;VALUE=DATE:20230527
DTEND;VALUE=DATE:20230528
DTSTAMP:20260422T202557
CREATED:20230424T195717Z
LAST-MODIFIED:20230424T200154Z
UID:1855-1685145600-1685231999@oskarshamn.vansterpartiet.se
SUMMARY:Vänsterpartiet på Tolvskillingsmarken
DESCRIPTION:Kom och träffa oss på Tolvskillingsmarken! \nVilka frågor vill du att vi driver i kommunen? Vi bjuder på kaffe och pratar politik. \nVi ses i korsningen Västra Torggatan/Flanaden.
URL:https://oskarshamn.vansterpartiet.se/event/vansterpartiet-pa-tolvskillingsmarken/
ATTACH;FMTTYPE=image/jpeg:https://oskarshamn.vansterpartiet.se/files/2023/04/56AA7E84-7D71-4E12-94DF-F5A4DC1A0B23-scaled-e1682366483203.jpeg
END:VEVENT
END:VCALENDAR