BEGIN:VCALENDAR
VERSION:2.0
PRODID:-//Vänsterpartiet Oskarshamn - ECPv6.15.17.1//NONSGML v1.0//EN
CALSCALE:GREGORIAN
METHOD:PUBLISH
X-ORIGINAL-URL:https://oskarshamn.vansterpartiet.se
X-WR-CALDESC:Händelser för Vänsterpartiet Oskarshamn
REFRESH-INTERVAL;VALUE=DURATION:PT1H
X-Robots-Tag:noindex
X-PUBLISHED-TTL:PT1H
BEGIN:VTIMEZONE
TZID:Europe/Stockholm
BEGIN:DAYLIGHT
TZOFFSETFROM:+0100
TZOFFSETTO:+0200
TZNAME:CEST
DTSTART:20230326T010000
END:DAYLIGHT
BEGIN:STANDARD
TZOFFSETFROM:+0200
TZOFFSETTO:+0100
TZNAME:CET
DTSTART:20231029T010000
END:STANDARD
BEGIN:DAYLIGHT
TZOFFSETFROM:+0100
TZOFFSETTO:+0200
TZNAME:CEST
DTSTART:20240331T010000
END:DAYLIGHT
BEGIN:STANDARD
TZOFFSETFROM:+0200
TZOFFSETTO:+0100
TZNAME:CET
DTSTART:20241027T010000
END:STANDARD
BEGIN:DAYLIGHT
TZOFFSETFROM:+0100
TZOFFSETTO:+0200
TZNAME:CEST
DTSTART:20250330T010000
END:DAYLIGHT
BEGIN:STANDARD
TZOFFSETFROM:+0200
TZOFFSETTO:+0100
TZNAME:CET
DTSTART:20251026T010000
END:STANDARD
BEGIN:DAYLIGHT
TZOFFSETFROM:+0100
TZOFFSETTO:+0200
TZNAME:CEST
DTSTART:20260329T010000
END:DAYLIGHT
BEGIN:STANDARD
TZOFFSETFROM:+0200
TZOFFSETTO:+0100
TZNAME:CET
DTSTART:20261025T010000
END:STANDARD
END:VTIMEZONE
BEGIN:VEVENT
DTSTART;TZID=Europe/Stockholm:20250504T180000
DTEND;TZID=Europe/Stockholm:20250504T200000
DTSTAMP:20260420T230330
CREATED:20250203T142756Z
LAST-MODIFIED:20250203T142916Z
UID:2172-1746381600-1746388800@oskarshamn.vansterpartiet.se
SUMMARY:Gruppmöte om budget 2026
DESCRIPTION:Detta möte ägnas åt vårt budgetförslag 2026 som ska lämnas in senast 12 Maj. \n\nSamtliga med politiska uppdrag i nämnder och/eller styrelser kallas\, men alla medlemmar har rätt att delta.
URL:https://oskarshamn.vansterpartiet.se/event/gruppmote-om-budget-2026/
LOCATION:Kommunhuset\, Kristdalarummet
CATEGORIES:Möte
ATTACH;FMTTYPE=image/jpeg:https://oskarshamn.vansterpartiet.se/files/2023/04/v-tillsammans-scaled-e1682346109732.jpg
END:VEVENT
BEGIN:VEVENT
DTSTART;TZID=Europe/Stockholm:20250501T120000
DTEND;TZID=Europe/Stockholm:20250501T160000
DTSTAMP:20260420T230330
CREATED:20250331T060714Z
LAST-MODIFIED:20250331T060714Z
UID:2177-1746100800-1746115200@oskarshamn.vansterpartiet.se
SUMMARY:1 Maj
DESCRIPTION:För första gången på länge är vi med och arrangerar 1 Maj-firande i Oskarshamn!\nDet blir ett klassiskt arbetartåg med LO-facken som huvudarrangör och Socialdemokraterna & Vänsterpartiet som medarrangörer. \nVi kommer samlas vid Solbacka kl 12:00 och tåget går kl 12:30 genom centrum och vidare till stadsparken där det kommer finnas aktiviteter för barn och vuxna\, tal och musik.
URL:https://oskarshamn.vansterpartiet.se/event/1-maj/
LOCATION:Oskarshamn
ATTACH;FMTTYPE=image/jpeg:https://oskarshamn.vansterpartiet.se/files/2023/05/1maj2023.jpg
END:VEVENT
BEGIN:VEVENT
DTSTART;TZID=Europe/Stockholm:20250428T180000
DTEND;TZID=Europe/Stockholm:20250428T200000
DTSTAMP:20260420T230330
CREATED:20241218T072543Z
LAST-MODIFIED:20241218T072728Z
UID:2128-1745863200-1745870400@oskarshamn.vansterpartiet.se
SUMMARY:Gruppmöte
DESCRIPTION:Öppet gruppmöte för alla medlemmar. Här går vi igenom handlingarna inför Kommunstyrelsens möte\, samt andra aktuella ärenden i de olika nämnderna och utskotten.
URL:https://oskarshamn.vansterpartiet.se/event/gruppmote-23/
LOCATION:Kommunhuset\, Kristdalarummet
CATEGORIES:Möte
ATTACH;FMTTYPE=image/jpeg:https://oskarshamn.vansterpartiet.se/files/2023/04/v-tillsammans-scaled-e1682346109732.jpg
END:VEVENT
BEGIN:VEVENT
DTSTART;TZID=Europe/Stockholm:20250402T170000
DTEND;TZID=Europe/Stockholm:20250402T190000
DTSTAMP:20260420T230330
CREATED:20241218T074311Z
LAST-MODIFIED:20241218T074447Z
UID:2148-1743613200-1743620400@oskarshamn.vansterpartiet.se
SUMMARY:Medlemscafé
DESCRIPTION:Alla medlemmar och sympatisörer är välkomna med drop-in mellan kl 17-19. Vi håller till i vår partilokal på Södra Fabriksgatan 20\, två trappor upp där vi fikar och pratar om allt möjligt mellan himmel och jord.\n-Välkomna!
URL:https://oskarshamn.vansterpartiet.se/event/medlemscafe-20/
LOCATION:Partilokalen\, Södra Fabriksgatan 20\, Oskarshamn
ATTACH;FMTTYPE=image/jpeg:https://oskarshamn.vansterpartiet.se/files/2018/05/34653983-BA4A-4BFA-A493-1DBD92C75B72-e1701943746922.jpeg
END:VEVENT
BEGIN:VEVENT
DTSTART;TZID=Europe/Stockholm:20250324T180000
DTEND;TZID=Europe/Stockholm:20250324T200000
DTSTAMP:20260420T230330
CREATED:20241218T072425Z
LAST-MODIFIED:20241218T072425Z
UID:2126-1742839200-1742846400@oskarshamn.vansterpartiet.se
SUMMARY:Gruppmöte
DESCRIPTION:Öppet gruppmöte för alla medlemmar. Här går vi igenom handlingarna inför Kommunstyrelsens möte\, samt andra aktuella ärenden i de olika nämnderna och utskotten.
URL:https://oskarshamn.vansterpartiet.se/event/gruppmote-22/
LOCATION:Kommunhuset\, Kristdalarummet
ATTACH;FMTTYPE=image/jpeg:https://oskarshamn.vansterpartiet.se/files/2023/04/v-tillsammans-scaled-e1682346109732.jpg
END:VEVENT
BEGIN:VEVENT
DTSTART;TZID=Europe/Stockholm:20250305T170000
DTEND;TZID=Europe/Stockholm:20250305T190000
DTSTAMP:20260420T230330
CREATED:20241218T073900Z
LAST-MODIFIED:20241218T074225Z
UID:2146-1741194000-1741201200@oskarshamn.vansterpartiet.se
SUMMARY:Medlemscafé
DESCRIPTION:Alla medlemmar och sympatisörer är välkomna med drop-in mellan kl 17-19. Vi håller till i vår partilokal på Södra Fabriksgatan 20\, två trappor upp där vi fikar och pratar om allt möjligt mellan himmel och jord.\n-Välkomna!
URL:https://oskarshamn.vansterpartiet.se/event/medlemscafe-19/
LOCATION:Partilokalen\, Södra Fabriksgatan 20\, Oskarshamn
ATTACH;FMTTYPE=image/jpeg:https://oskarshamn.vansterpartiet.se/files/2018/05/34653983-BA4A-4BFA-A493-1DBD92C75B72-e1701943746922.jpeg
END:VEVENT
BEGIN:VEVENT
DTSTART;TZID=Europe/Stockholm:20250224T180000
DTEND;TZID=Europe/Stockholm:20250224T200000
DTSTAMP:20260420T230330
CREATED:20241218T072336Z
LAST-MODIFIED:20241218T072336Z
UID:2124-1740420000-1740427200@oskarshamn.vansterpartiet.se
SUMMARY:Gruppmöte
DESCRIPTION:Öppet gruppmöte för alla medlemmar. Här går vi igenom handlingarna inför Kommunstyrelsens möte\, samt andra aktuella ärenden i de olika nämnderna och utskotten.
URL:https://oskarshamn.vansterpartiet.se/event/gruppmote-21/
LOCATION:Kommunhuset\, Kristdalarummet
ATTACH;FMTTYPE=image/jpeg:https://oskarshamn.vansterpartiet.se/files/2023/04/v-tillsammans-scaled-e1682346109732.jpg
END:VEVENT
BEGIN:VEVENT
DTSTART;TZID=Europe/Stockholm:20250216T173000
DTEND;TZID=Europe/Stockholm:20250216T203000
DTSTAMP:20260420T230330
CREATED:20241218T075127Z
LAST-MODIFIED:20250122T114540Z
UID:2164-1739727000-1739737800@oskarshamn.vansterpartiet.se
SUMMARY:Årsmöte
DESCRIPTION:Vänsterpartiet Oskarshamn håller årsmöte söndagen den 16 februari på FORUM\, Oskarshamn. Kl. 17.30 – 20.30. \nVi upprepar förra årets trivsamma möte och bjuder på förtäring med mat\, dryck och underhållning.\nMeddela din närvaro via mail till fredrik@familjenjonasson.se så vi vet hur många portioner vi ska beställa. Vi behöver din anmälan senast 5 februari.
URL:https://oskarshamn.vansterpartiet.se/event/arsmote-2/
LOCATION:Forum\, Södra Långgatan 15-17\, Oskarshamn
ATTACH;FMTTYPE=image/jpeg:https://oskarshamn.vansterpartiet.se/files/2024/02/428442250_706416961672507_3529483612609486497_n.jpg
END:VEVENT
BEGIN:VEVENT
DTSTART;TZID=Europe/Stockholm:20250205T170000
DTEND;TZID=Europe/Stockholm:20250205T190000
DTSTAMP:20260420T230330
CREATED:20241218T073738Z
LAST-MODIFIED:20241218T074203Z
UID:2144-1738774800-1738782000@oskarshamn.vansterpartiet.se
SUMMARY:Medlemscafé
DESCRIPTION:Alla medlemmar och sympatisörer är välkomna med drop-in mellan kl 17-19. Vi håller till i vår partilokal på Södra Fabriksgatan 20\, två trappor upp där vi fikar och pratar om allt möjligt mellan himmel och jord.\n-Välkomna!
URL:https://oskarshamn.vansterpartiet.se/event/medlemscafe-18/
LOCATION:Partilokalen\, Södra Fabriksgatan 20\, Oskarshamn
ATTACH;FMTTYPE=image/jpeg:https://oskarshamn.vansterpartiet.se/files/2018/05/34653983-BA4A-4BFA-A493-1DBD92C75B72-e1701943746922.jpeg
END:VEVENT
BEGIN:VEVENT
DTSTART;TZID=Europe/Stockholm:20250127T180000
DTEND;TZID=Europe/Stockholm:20250127T200000
DTSTAMP:20260420T230330
CREATED:20241218T072222Z
LAST-MODIFIED:20241218T072222Z
UID:2121-1738000800-1738008000@oskarshamn.vansterpartiet.se
SUMMARY:Gruppmöte
DESCRIPTION:Öppet gruppmöte för alla medlemmar. Här går vi igenom handlingarna inför Kommunstyrelsens möte\, samt andra aktuella ärenden i de olika nämnderna och utskotten.
URL:https://oskarshamn.vansterpartiet.se/event/gruppmote-20/
LOCATION:Kommunhuset\, Kristdalarummet
CATEGORIES:Möte
ATTACH;FMTTYPE=image/jpeg:https://oskarshamn.vansterpartiet.se/files/2023/04/v-tillsammans-scaled-e1682346109732.jpg
END:VEVENT
BEGIN:VEVENT
DTSTART;TZID=Europe/Stockholm:20241215T180000
DTEND;TZID=Europe/Stockholm:20241215T200000
DTSTAMP:20260420T230330
CREATED:20231207T095839Z
LAST-MODIFIED:20240101T163730Z
UID:1963-1734285600-1734292800@oskarshamn.vansterpartiet.se
SUMMARY:Gruppmöte
DESCRIPTION:Öppet gruppmöte för alla medlemmar. Här går vi igenom handlingarna inför Kommunstyrelsens möte\, samt andra aktuella ärenden i de olika nämnderna och utskotten.
URL:https://oskarshamn.vansterpartiet.se/event/gruppmote-19/
LOCATION:Kommunhuset\, Döderhultsrummet
ATTACH;FMTTYPE=image/jpeg:https://oskarshamn.vansterpartiet.se/files/2023/04/v-tillsammans-scaled-e1682346109732.jpg
END:VEVENT
BEGIN:VEVENT
DTSTART;TZID=Europe/Stockholm:20241204T170000
DTEND;TZID=Europe/Stockholm:20241204T190000
DTSTAMP:20260420T230330
CREATED:20231207T102011Z
LAST-MODIFIED:20231207T102011Z
UID:1984-1733331600-1733338800@oskarshamn.vansterpartiet.se
SUMMARY:Medlemscafé
DESCRIPTION:Alla medlemmar och sympatisörer är välkomna med drop-in mellan kl 17-19. Vi håller till i vår partilokal på Södra Fabriksgatan 20\, två trappor upp där vi fikar och pratar om allt möjligt mellan himmel och jord.\n-Välkomna!
URL:https://oskarshamn.vansterpartiet.se/event/medlemscafe-17/
LOCATION:Partilokalen\, Södra Fabriksgatan 20\, Oskarshamn
ATTACH;FMTTYPE=image/jpeg:https://oskarshamn.vansterpartiet.se/files/2018/05/34653983-BA4A-4BFA-A493-1DBD92C75B72-e1701943746922.jpeg
END:VEVENT
BEGIN:VEVENT
DTSTART;TZID=Europe/Stockholm:20241126T180000
DTEND;TZID=Europe/Stockholm:20241126T200000
DTSTAMP:20260420T230330
CREATED:20241014T164941Z
LAST-MODIFIED:20241014T171335Z
UID:2089-1732644000-1732651200@oskarshamn.vansterpartiet.se
SUMMARY:Medlemsmöte\, Tema Patientnämnden
DESCRIPTION:Lena Fyhr berättar om patientnämnden.
URL:https://oskarshamn.vansterpartiet.se/event/medlemsmote-tema-patientnamnden/
LOCATION:Kommunhuset\, Oskarshamnssalen
ATTACH;FMTTYPE=image/png:https://oskarshamn.vansterpartiet.se/files/2024/10/Manniskor20241014_190813.png
END:VEVENT
BEGIN:VEVENT
DTSTART;TZID=Europe/Stockholm:20241118T180000
DTEND;TZID=Europe/Stockholm:20241118T200000
DTSTAMP:20260420T230330
CREATED:20231207T095758Z
LAST-MODIFIED:20231207T095758Z
UID:1961-1731952800-1731960000@oskarshamn.vansterpartiet.se
SUMMARY:Gruppmöte
DESCRIPTION:Öppet gruppmöte för alla medlemmar. Här går vi igenom handlingarna inför Kommunstyrelsens möte\, samt andra aktuella ärenden i de olika nämnderna och utskotten.
URL:https://oskarshamn.vansterpartiet.se/event/gruppmote-18/
LOCATION:Kommunhuset\, Döderhultsrummet
ATTACH;FMTTYPE=image/jpeg:https://oskarshamn.vansterpartiet.se/files/2023/04/v-tillsammans-scaled-e1682346109732.jpg
END:VEVENT
BEGIN:VEVENT
DTSTART;TZID=Europe/Stockholm:20241106T080000
DTEND;TZID=Europe/Stockholm:20241106T170000
DTSTAMP:20260420T230330
CREATED:20231207T101903Z
LAST-MODIFIED:20231207T101903Z
UID:1982-1730880000-1730912400@oskarshamn.vansterpartiet.se
SUMMARY:Medlemscafé
DESCRIPTION:Alla medlemmar och sympatisörer är välkomna med drop-in mellan kl 17-19. Vi håller till i vår partilokal på Södra Fabriksgatan 20\, två trappor upp där vi fikar och pratar om allt möjligt mellan himmel och jord.\n-Välkomna!
URL:https://oskarshamn.vansterpartiet.se/event/medlemscafe-16/
LOCATION:Partilokalen\, Södra Fabriksgatan 20\, Oskarshamn
ATTACH;FMTTYPE=image/jpeg:https://oskarshamn.vansterpartiet.se/files/2018/05/34653983-BA4A-4BFA-A493-1DBD92C75B72-e1701943746922.jpeg
END:VEVENT
BEGIN:VEVENT
DTSTART;TZID=Europe/Stockholm:20241020T180000
DTEND;TZID=Europe/Stockholm:20241020T200000
DTSTAMP:20260420T230330
CREATED:20231207T095712Z
LAST-MODIFIED:20241014T081517Z
UID:1959-1729447200-1729454400@oskarshamn.vansterpartiet.se
SUMMARY:Gruppmöte
DESCRIPTION:Öppet gruppmöte för alla medlemmar. Här går vi igenom handlingarna inför Kommunstyrelsens möte\, samt andra aktuella ärenden i de olika nämnderna och utskotten. \nDen här gången går vi dessutom igenom majoritetens förslag till driftbudget 2025\, samt vilka förändringar vi vill göra.
URL:https://oskarshamn.vansterpartiet.se/event/gruppmote-17/
LOCATION:Kommunhuset\, Döderhultsrummet
ATTACH;FMTTYPE=image/jpeg:https://oskarshamn.vansterpartiet.se/files/2023/04/v-tillsammans-scaled-e1682346109732.jpg
END:VEVENT
BEGIN:VEVENT
DTSTART;TZID=Europe/Stockholm:20241008T180000
DTEND;TZID=Europe/Stockholm:20241008T193000
DTSTAMP:20260420T230330
CREATED:20240823T101835Z
LAST-MODIFIED:20240823T101835Z
UID:2060-1728410400-1728415800@oskarshamn.vansterpartiet.se
SUMMARY:Medlemsmöte om kulturskolan
DESCRIPTION:Nu gör vi ett nytt försök att få till ett medlemsmöte om kulturskolan. \n8 Oktober har vi bjudit in Simon Leidecker för att berätta om deras verksamhet
URL:https://oskarshamn.vansterpartiet.se/event/medlemsmote-om-kulturskolan/
LOCATION:Kommunhuset\, Oskarshamnssalen
ATTACH;FMTTYPE=image/jpeg:https://oskarshamn.vansterpartiet.se/files/2023/09/vkultur.jpg
END:VEVENT
BEGIN:VEVENT
DTSTART;TZID=Europe/Stockholm:20241002T170000
DTEND;TZID=Europe/Stockholm:20241002T190000
DTSTAMP:20260420T230330
CREATED:20231207T101750Z
LAST-MODIFIED:20231207T101750Z
UID:1980-1727888400-1727895600@oskarshamn.vansterpartiet.se
SUMMARY:Medlemscafé
DESCRIPTION:Alla medlemmar och sympatisörer är välkomna med drop-in mellan kl 17-19. Vi håller till i vår partilokal på Södra Fabriksgatan 20\, två trappor upp där vi fikar och pratar om allt möjligt mellan himmel och jord.\n-Välkomna!
URL:https://oskarshamn.vansterpartiet.se/event/medlemscafe-15/
LOCATION:Partilokalen\, Södra Fabriksgatan 20\, Oskarshamn
ATTACH;FMTTYPE=image/jpeg:https://oskarshamn.vansterpartiet.se/files/2018/05/34653983-BA4A-4BFA-A493-1DBD92C75B72-e1701943746922.jpeg
END:VEVENT
BEGIN:VEVENT
DTSTART;TZID=Europe/Stockholm:20240930T180000
DTEND;TZID=Europe/Stockholm:20240930T200000
DTSTAMP:20260420T230330
CREATED:20231207T095610Z
LAST-MODIFIED:20231207T095621Z
UID:1957-1727719200-1727726400@oskarshamn.vansterpartiet.se
SUMMARY:Gruppmöte
DESCRIPTION:Öppet gruppmöte för alla medlemmar. Här går vi igenom handlingarna inför Kommunstyrelsens möte\, samt andra aktuella ärenden i de olika nämnderna och utskotten.
URL:https://oskarshamn.vansterpartiet.se/event/gruppmote-16/
LOCATION:Kommunhuset\, Döderhultsrummet
ATTACH;FMTTYPE=image/jpeg:https://oskarshamn.vansterpartiet.se/files/2023/04/v-tillsammans-scaled-e1682346109732.jpg
END:VEVENT
BEGIN:VEVENT
DTSTART;TZID=Europe/Stockholm:20240907T130000
DTEND;TZID=Europe/Stockholm:20240907T170000
DTSTAMP:20260420T230330
CREATED:20240902T150455Z
LAST-MODIFIED:20240902T150648Z
UID:2062-1725714000-1725728400@oskarshamn.vansterpartiet.se
SUMMARY:Oskarshamn Pride
DESCRIPTION:Lördag 7 September är det dags för årets Pride-tåg i Oskarshamn. \nKl 13.00-15.00 är det ”Pre-Pride” i stadsparken.\nKl 15.00 ställer vi upp i tåget för avmarsch 15.30. \n-Kom och gå med oss för allas rätt att vara sig själv!
URL:https://oskarshamn.vansterpartiet.se/event/oskarshamn-pride/
LOCATION:Stadsparken
CATEGORIES:Aktivitet
ATTACH;FMTTYPE=image/jpeg:https://oskarshamn.vansterpartiet.se/files/2022/10/308622982_397806715866868_7025210797454069095_n-e1725289479583.jpg
END:VEVENT
BEGIN:VEVENT
DTSTART;TZID=Europe/Stockholm:20240904T080000
DTEND;TZID=Europe/Stockholm:20240904T170000
DTSTAMP:20260420T230330
CREATED:20231207T101620Z
LAST-MODIFIED:20231207T101620Z
UID:1978-1725436800-1725469200@oskarshamn.vansterpartiet.se
SUMMARY:Medlemscafé
DESCRIPTION:Alla medlemmar och sympatisörer är välkomna med drop-in mellan kl 17-19. Vi håller till i vår partilokal på Södra Fabriksgatan 20\, två trappor upp där vi fikar och pratar om allt möjligt mellan himmel och jord.\n-Välkomna!
URL:https://oskarshamn.vansterpartiet.se/event/medlemscafe-14/
LOCATION:Partilokalen\, Södra Fabriksgatan 20\, Oskarshamn
ATTACH;FMTTYPE=image/jpeg:https://oskarshamn.vansterpartiet.se/files/2018/05/34653983-BA4A-4BFA-A493-1DBD92C75B72-e1701943746922.jpeg
END:VEVENT
BEGIN:VEVENT
DTSTART;TZID=Europe/Stockholm:20240902T180000
DTEND;TZID=Europe/Stockholm:20240902T200000
DTSTAMP:20260420T230330
CREATED:20231207T095528Z
LAST-MODIFIED:20240726T171828Z
UID:1955-1725300000-1725307200@oskarshamn.vansterpartiet.se
SUMMARY:Gruppmöte
DESCRIPTION:Öppet gruppmöte för alla medlemmar. Här går vi igenom handlingarna inför Kommunstyrelsens möte\, samt andra aktuella ärenden i de olika nämnderna och utskotten.
URL:https://oskarshamn.vansterpartiet.se/event/gruppmote-15/
LOCATION:Kommunhuset\, Döderhultsrummet
ATTACH;FMTTYPE=image/jpeg:https://oskarshamn.vansterpartiet.se/files/2023/04/v-tillsammans-scaled-e1682346109732.jpg
END:VEVENT
BEGIN:VEVENT
DTSTART;TZID=Europe/Stockholm:20240703T170000
DTEND;TZID=Europe/Stockholm:20240703T190000
DTSTAMP:20260420T230330
CREATED:20231207T101448Z
LAST-MODIFIED:20231207T101448Z
UID:1976-1720026000-1720033200@oskarshamn.vansterpartiet.se
SUMMARY:Medlemscafé
DESCRIPTION:Alla medlemmar och sympatisörer är välkomna med drop-in mellan kl 17-19. Vi håller till i vår partilokal på Södra Fabriksgatan 20\, två trappor upp där vi fikar och pratar om allt möjligt mellan himmel och jord.\n-Välkomna!
URL:https://oskarshamn.vansterpartiet.se/event/medlemscafe-13/
LOCATION:Partilokalen\, Södra Fabriksgatan 20\, Oskarshamn
ATTACH;FMTTYPE=image/jpeg:https://oskarshamn.vansterpartiet.se/files/2018/05/34653983-BA4A-4BFA-A493-1DBD92C75B72-e1701943746922.jpeg
END:VEVENT
BEGIN:VEVENT
DTSTART;TZID=Europe/Stockholm:20240617T180000
DTEND;TZID=Europe/Stockholm:20240617T200000
DTSTAMP:20260420T230330
CREATED:20231207T095435Z
LAST-MODIFIED:20231207T095446Z
UID:1953-1718647200-1718654400@oskarshamn.vansterpartiet.se
SUMMARY:Gruppmöte
DESCRIPTION:Öppet gruppmöte för alla medlemmar. Här går vi igenom handlingarna inför Kommunstyrelsens möte\, samt andra aktuella ärenden i de olika nämnderna och utskotten.
URL:https://oskarshamn.vansterpartiet.se/event/gruppmote-14/
LOCATION:Kommunhuset\, Döderhultsrummet
ATTACH;FMTTYPE=image/jpeg:https://oskarshamn.vansterpartiet.se/files/2023/04/v-tillsammans-scaled-e1682346109732.jpg
END:VEVENT
BEGIN:VEVENT
DTSTART;TZID=Europe/Stockholm:20240612T170000
DTEND;TZID=Europe/Stockholm:20240612T210000
DTSTAMP:20260420T230330
CREATED:20240307T150646Z
LAST-MODIFIED:20240405T131217Z
UID:2027-1718211600-1718226000@oskarshamn.vansterpartiet.se
SUMMARY:Medlemsmöte om arenaprojektet & Budgetmöte
DESCRIPTION:Vi får information om arenaprojektet av kommundirektör Henrik Andersson.\nDärefter går vi igenom driftbudget 2025.\nVi går igenom majoritetens förslag till budget och vilka ändringar vi vill göra.
URL:https://oskarshamn.vansterpartiet.se/event/budgetmote/
LOCATION:Kommunhuset\, Döderhultsrummet
ATTACH;FMTTYPE=image/jpeg:https://oskarshamn.vansterpartiet.se/files/2022/04/VOskarshamn.jpg
END:VEVENT
BEGIN:VEVENT
DTSTART;TZID=Europe/Stockholm:20240605T170000
DTEND;TZID=Europe/Stockholm:20240605T190000
DTSTAMP:20260420T230330
CREATED:20231207T101324Z
LAST-MODIFIED:20240603T045555Z
UID:1974-1717606800-1717614000@oskarshamn.vansterpartiet.se
SUMMARY:Medlemscafé
DESCRIPTION:Alla medlemmar och sympatisörer är välkomna med drop-in mellan kl 17-19. Vi håller till i vår partilokal på Södra Fabriksgatan 20\, två trappor upp där vi fikar och pratar om allt möjligt mellan himmel och jord.\n-Välkomna!
URL:https://oskarshamn.vansterpartiet.se/event/medlemscafe-12/
LOCATION:Partilokalen\, Södra Fabriksgatan 20\, Oskarshamn
ATTACH;FMTTYPE=image/jpeg:https://oskarshamn.vansterpartiet.se/files/2018/05/34653983-BA4A-4BFA-A493-1DBD92C75B72-e1701943746922.jpeg
END:VEVENT
BEGIN:VEVENT
DTSTART;TZID=Europe/Stockholm:20240525T080000
DTEND;TZID=Europe/Stockholm:20240525T160000
DTSTAMP:20260420T230330
CREATED:20240304T204713Z
LAST-MODIFIED:20240304T204902Z
UID:2023-1716624000-1716652800@oskarshamn.vansterpartiet.se
SUMMARY:Tolvskillingsmarken
DESCRIPTION:Vi ses på Tolvskillingsmarken för att bland annat prata om det kommande EU-valet över en kopp kaffe. \nOm du som är medlem kan tänka dig att hjälpa till och bemanna tältet\, skicka ett mail till oskarshamn@vansterpartiet.se
URL:https://oskarshamn.vansterpartiet.se/event/tolvskillingsmarken/
ATTACH;FMTTYPE=image/jpeg:https://oskarshamn.vansterpartiet.se/files/2023/05/20230527_120847-scaled.jpg
END:VEVENT
BEGIN:VEVENT
DTSTART;TZID=Europe/Stockholm:20240520T180000
DTEND;TZID=Europe/Stockholm:20240520T200000
DTSTAMP:20260420T230330
CREATED:20231207T095311Z
LAST-MODIFIED:20231207T095311Z
UID:1951-1716228000-1716235200@oskarshamn.vansterpartiet.se
SUMMARY:Gruppmöte
DESCRIPTION:Öppet gruppmöte för alla medlemmar. Här går vi igenom handlingarna inför Kommunstyrelsens möte\, samt andra aktuella ärenden i de olika nämnderna och utskotten.
URL:https://oskarshamn.vansterpartiet.se/event/gruppmote-13/
LOCATION:Kommunhuset\, Döderhultsrummet
ATTACH;FMTTYPE=image/jpeg:https://oskarshamn.vansterpartiet.se/files/2023/04/v-tillsammans-scaled-e1682346109732.jpg
END:VEVENT
BEGIN:VEVENT
DTSTART;TZID=Europe/Stockholm:20240508T170000
DTEND;TZID=Europe/Stockholm:20240508T190000
DTSTAMP:20260420T230330
CREATED:20231207T101214Z
LAST-MODIFIED:20231207T101214Z
UID:1972-1715187600-1715194800@oskarshamn.vansterpartiet.se
SUMMARY:Medlemscafé
DESCRIPTION:Alla medlemmar och sympatisörer är välkomna med drop-in mellan kl 17-19. Vi håller till i vår partilokal på Södra Fabriksgatan 20\, två trappor upp där vi fikar och pratar om allt möjligt mellan himmel och jord.\n-Välkomna!
URL:https://oskarshamn.vansterpartiet.se/event/medlemscafe-11/
LOCATION:Partilokalen\, Södra Fabriksgatan 20\, Oskarshamn
ATTACH;FMTTYPE=image/jpeg:https://oskarshamn.vansterpartiet.se/files/2018/05/34653983-BA4A-4BFA-A493-1DBD92C75B72-e1701943746922.jpeg
END:VEVENT
BEGIN:VEVENT
DTSTART;TZID=Europe/Stockholm:20240501T130000
DTEND;TZID=Europe/Stockholm:20240501T160000
DTSTAMP:20260420T230330
CREATED:20240424T091247Z
LAST-MODIFIED:20240424T091247Z
UID:2039-1714568400-1714579200@oskarshamn.vansterpartiet.se
SUMMARY:1 Maj i Kalmar
DESCRIPTION:Första Maj närmar sig med stormsteg och likt de senaste åren samlas vi i Kalmar för ett riktigt maffigt läns-tåg. \n\nTa tillbaka kontrollen!\nSitt inte hemma – njut av solen och gör din röst hörd.\nVi har ett val att vinna och en höger att stoppa. Första steget för fler hyresrätter\, mindre utsläpp och högre löner är taget först när vi sätter ner foten.\n\n\n1 maj är en kampdag och en festdag. Vi firar det vi och tidigare generationer vunnit och vi kraftsamlar för att vinna ännu mer. Låt dig inte bli lämnad av alla dina kamrater som ska ut och demonstrera\, kom till samlingen på Stortorget i Kalmar kl. 13.00 och tåga med oss till Stadsparken för att lyssna på tal och Adée!
URL:https://oskarshamn.vansterpartiet.se/event/1-maj-i-kalmar/
LOCATION:Stortorget\, Kalmar\, Stortorget\, Kalmar
ATTACH;FMTTYPE=image/jpeg:https://oskarshamn.vansterpartiet.se/files/2024/04/1Maj2024.jpg
END:VEVENT
END:VCALENDAR