BEGIN:VCALENDAR
VERSION:2.0
PRODID:-//Vänsterpartiet Oskarshamn - ECPv6.15.17.1//NONSGML v1.0//EN
CALSCALE:GREGORIAN
METHOD:PUBLISH
X-WR-CALNAME:Vänsterpartiet Oskarshamn
X-ORIGINAL-URL:https://oskarshamn.vansterpartiet.se
X-WR-CALDESC:Händelser för Vänsterpartiet Oskarshamn
REFRESH-INTERVAL;VALUE=DURATION:PT1H
X-Robots-Tag:noindex
X-PUBLISHED-TTL:PT1H
BEGIN:VTIMEZONE
TZID:Europe/Stockholm
BEGIN:DAYLIGHT
TZOFFSETFROM:+0100
TZOFFSETTO:+0200
TZNAME:CEST
DTSTART:20240331T010000
END:DAYLIGHT
BEGIN:STANDARD
TZOFFSETFROM:+0200
TZOFFSETTO:+0100
TZNAME:CET
DTSTART:20241027T010000
END:STANDARD
BEGIN:DAYLIGHT
TZOFFSETFROM:+0100
TZOFFSETTO:+0200
TZNAME:CEST
DTSTART:20250330T010000
END:DAYLIGHT
BEGIN:STANDARD
TZOFFSETFROM:+0200
TZOFFSETTO:+0100
TZNAME:CET
DTSTART:20251026T010000
END:STANDARD
BEGIN:DAYLIGHT
TZOFFSETFROM:+0100
TZOFFSETTO:+0200
TZNAME:CEST
DTSTART:20260329T010000
END:DAYLIGHT
BEGIN:STANDARD
TZOFFSETFROM:+0200
TZOFFSETTO:+0100
TZNAME:CET
DTSTART:20261025T010000
END:STANDARD
BEGIN:DAYLIGHT
TZOFFSETFROM:+0100
TZOFFSETTO:+0200
TZNAME:CEST
DTSTART:20270328T010000
END:DAYLIGHT
BEGIN:STANDARD
TZOFFSETFROM:+0200
TZOFFSETTO:+0100
TZNAME:CET
DTSTART:20271031T010000
END:STANDARD
END:VTIMEZONE
BEGIN:VEVENT
DTSTART;TZID=Europe/Stockholm:20250806T170000
DTEND;TZID=Europe/Stockholm:20250806T190000
DTSTAMP:20260421T090241
CREATED:20241218T074627Z
LAST-MODIFIED:20241218T074627Z
UID:2154-1754499600-1754506800@oskarshamn.vansterpartiet.se
SUMMARY:Medlemscafé
DESCRIPTION:Alla medlemmar och sympatisörer är välkomna med drop-in mellan kl 17-19. Vi håller till i vår partilokal på Södra Fabriksgatan 20\, två trappor upp där vi fikar och pratar om allt möjligt mellan himmel och jord.\n-Välkomna!
URL:https://oskarshamn.vansterpartiet.se/event/medlemscafe-23/
LOCATION:Partilokalen\, Södra Fabriksgatan 20\, Oskarshamn
ATTACH;FMTTYPE=image/jpeg:https://oskarshamn.vansterpartiet.se/files/2018/05/34653983-BA4A-4BFA-A493-1DBD92C75B72-e1701943746922.jpeg
END:VEVENT
BEGIN:VEVENT
DTSTART;TZID=Europe/Stockholm:20250824T150000
DTEND;TZID=Europe/Stockholm:20250824T190000
DTSTAMP:20260421T090241
CREATED:20250520T055558Z
LAST-MODIFIED:20250630T090648Z
UID:2191-1756047600-1756062000@oskarshamn.vansterpartiet.se
SUMMARY:Sommarfest
DESCRIPTION:Alla medlemmar med familj\, samt Ung Vänster välkomnas till en sommarfest med kickoff inför valåret!\nVi träffas i Höganäslokalen i Figeholm (Se kartbild längre ner) \, Söndag 24 Augusti\, kl 15:00 för att äta en bit mat och umgås. Det blir även fika\, musikquiz och en del andra aktiviteter\, samt information om det kommande valåret.\nAnmälan sker till någon i Styrelsen eller via mail till: oskarshamn@vansterpartiet.se (Skriv hur många som kommer\, vuxna respektive barn\, samt eventuellt behov av specialkost.) Anmälning senast 17 Augusti.\nSamåk gärna. Om någon får problem att ta sig dit\, hör av er till någon i styrelsen så ordnar vi det.\n-Välkomna! \n// Styrelsen:\nClaes Zachrisson\, Ordförande\nFredrik Jonasson\, Kassör\nIng-Britt Runermark\, Sekreterare\nLena Fyhr\nVeronica Guljas\nAndreas Lindgren\nMarita Reinholdsson
URL:https://oskarshamn.vansterpartiet.se/event/medlemsfest/
LOCATION:Höganäslokalen\, Figeholm\, Vasagatan 4\, Figeholm
CATEGORIES:Aktivitet
ATTACH;FMTTYPE=image/jpeg:https://oskarshamn.vansterpartiet.se/files/2025/05/Sommarfest-V-illustration-e1750836113198.jpg
END:VEVENT
BEGIN:VEVENT
DTSTART;TZID=Europe/Stockholm:20250901T180000
DTEND;TZID=Europe/Stockholm:20250901T200000
DTSTAMP:20260421T090241
CREATED:20241218T072935Z
LAST-MODIFIED:20241218T072935Z
UID:2134-1756749600-1756756800@oskarshamn.vansterpartiet.se
SUMMARY:Gruppmöte
DESCRIPTION:Öppet gruppmöte för alla medlemmar. Här går vi igenom handlingarna inför Kommunstyrelsens möte\, samt andra aktuella ärenden i de olika nämnderna och utskotten.
URL:https://oskarshamn.vansterpartiet.se/event/gruppmote-26/
LOCATION:Kommunhuset\, Kristdalarummet
ATTACH;FMTTYPE=image/jpeg:https://oskarshamn.vansterpartiet.se/files/2023/04/v-tillsammans-scaled-e1682346109732.jpg
END:VEVENT
BEGIN:VEVENT
DTSTART;TZID=Europe/Stockholm:20250913T123000
DTEND;TZID=Europe/Stockholm:20250913T164500
DTSTAMP:20260421T090241
CREATED:20250901T150018Z
LAST-MODIFIED:20250901T150254Z
UID:2224-1757766600-1757781900@oskarshamn.vansterpartiet.se
SUMMARY:Oskarshamn Pride
DESCRIPTION:Kom och gå i pridetåget med oss! \nProgram:
URL:https://oskarshamn.vansterpartiet.se/event/oskarshamn-pride-2/
LOCATION:Stadsparken
CATEGORIES:Aktivitet
ATTACH;FMTTYPE=image/jpeg:https://oskarshamn.vansterpartiet.se/files/2024/09/eeaf3958-c91d-42ff-ba1e-38413375d216.jpg
END:VEVENT
BEGIN:VEVENT
DTSTART;TZID=Europe/Stockholm:20250929T180000
DTEND;TZID=Europe/Stockholm:20250929T200000
DTSTAMP:20260421T090241
CREATED:20241218T073020Z
LAST-MODIFIED:20241218T073020Z
UID:2136-1759168800-1759176000@oskarshamn.vansterpartiet.se
SUMMARY:Gruppmöte
DESCRIPTION:Öppet gruppmöte för alla medlemmar. Här går vi igenom handlingarna inför Kommunstyrelsens möte\, samt andra aktuella ärenden i de olika nämnderna och utskotten.
URL:https://oskarshamn.vansterpartiet.se/event/gruppmote-27/
LOCATION:Kommunhuset\, Kristdalarummet
ATTACH;FMTTYPE=image/jpeg:https://oskarshamn.vansterpartiet.se/files/2023/04/v-tillsammans-scaled-e1682346109732.jpg
END:VEVENT
BEGIN:VEVENT
DTSTART;TZID=Europe/Stockholm:20251001T080000
DTEND;TZID=Europe/Stockholm:20251001T170000
DTSTAMP:20260421T090241
CREATED:20241218T074810Z
LAST-MODIFIED:20241218T074810Z
UID:2158-1759305600-1759338000@oskarshamn.vansterpartiet.se
SUMMARY:Medlemscafé
DESCRIPTION:Alla medlemmar och sympatisörer är välkomna med drop-in mellan kl 17-19. Vi håller till i vår partilokal på Södra Fabriksgatan 20\, två trappor upp där vi fikar och pratar om allt möjligt mellan himmel och jord.\n-Välkomna!
URL:https://oskarshamn.vansterpartiet.se/event/medlemscafe-25/
LOCATION:Partilokalen\, Södra Fabriksgatan 20\, Oskarshamn
ATTACH;FMTTYPE=image/jpeg:https://oskarshamn.vansterpartiet.se/files/2018/05/34653983-BA4A-4BFA-A493-1DBD92C75B72-e1701943746922.jpeg
END:VEVENT
BEGIN:VEVENT
DTSTART;TZID=Europe/Stockholm:20251019T170000
DTEND;TZID=Europe/Stockholm:20251019T200000
DTSTAMP:20260421T090241
CREATED:20251014T060709Z
LAST-MODIFIED:20251014T060709Z
UID:2243-1760893200-1760904000@oskarshamn.vansterpartiet.se
SUMMARY:Gruppmöte om budget
DESCRIPTION:Genomgång av majoritetens budget samt beslut om vilka satsningar vi vill göra.
URL:https://oskarshamn.vansterpartiet.se/event/gruppmote-om-budget/
LOCATION:Kommunhuset\, Kristdalarummet
ATTACH;FMTTYPE=image/jpeg:https://oskarshamn.vansterpartiet.se/files/2022/04/VOskarshamn.jpg
END:VEVENT
BEGIN:VEVENT
DTSTART;TZID=Europe/Stockholm:20251103T180000
DTEND;TZID=Europe/Stockholm:20251103T200000
DTSTAMP:20260421T090241
CREATED:20241218T073315Z
LAST-MODIFIED:20241218T073315Z
UID:2138-1762192800-1762200000@oskarshamn.vansterpartiet.se
SUMMARY:Gruppmöte
DESCRIPTION:Öppet gruppmöte för alla medlemmar. Här går vi igenom handlingarna inför Kommunstyrelsens möte\, samt andra aktuella ärenden i de olika nämnderna och utskotten.
URL:https://oskarshamn.vansterpartiet.se/event/gruppmote-28/
LOCATION:Kommunhuset\, Kristdalarummet
ATTACH;FMTTYPE=image/jpeg:https://oskarshamn.vansterpartiet.se/files/2023/04/v-tillsammans-scaled-e1682346109732.jpg
END:VEVENT
BEGIN:VEVENT
DTSTART;TZID=Europe/Stockholm:20251105T170000
DTEND;TZID=Europe/Stockholm:20251105T190000
DTSTAMP:20260421T090241
CREATED:20241218T074910Z
LAST-MODIFIED:20241218T074910Z
UID:2160-1762362000-1762369200@oskarshamn.vansterpartiet.se
SUMMARY:Medlemscafé
DESCRIPTION:Alla medlemmar och sympatisörer är välkomna med drop-in mellan kl 17-19. Vi håller till i vår partilokal på Södra Fabriksgatan 20\, två trappor upp där vi fikar och pratar om allt möjligt mellan himmel och jord.\n-Välkomna!
URL:https://oskarshamn.vansterpartiet.se/event/medlemscafe-26/
LOCATION:Partilokalen\, Södra Fabriksgatan 20\, Oskarshamn
ATTACH;FMTTYPE=image/jpeg:https://oskarshamn.vansterpartiet.se/files/2018/05/34653983-BA4A-4BFA-A493-1DBD92C75B72-e1701943746922.jpeg
END:VEVENT
BEGIN:VEVENT
DTSTART;TZID=Europe/Stockholm:20251116T160000
DTEND;TZID=Europe/Stockholm:20251116T180000
DTSTAMP:20260421T090241
CREATED:20241218T073417Z
LAST-MODIFIED:20251114T101518Z
UID:2140-1763308800-1763316000@oskarshamn.vansterpartiet.se
SUMMARY:Gruppmöte
DESCRIPTION:Öppet gruppmöte för alla medlemmar. Här går vi igenom handlingarna inför Kommunstyrelsens möte\, samt andra aktuella ärenden i de olika nämnderna och utskotten.
URL:https://oskarshamn.vansterpartiet.se/event/gruppmote-29/
LOCATION:Kommunhuset\, Kristdalarummet
ATTACH;FMTTYPE=image/jpeg:https://oskarshamn.vansterpartiet.se/files/2023/04/v-tillsammans-scaled-e1682346109732.jpg
END:VEVENT
BEGIN:VEVENT
DTSTART;TZID=Europe/Stockholm:20251203T170000
DTEND;TZID=Europe/Stockholm:20251203T190000
DTSTAMP:20260421T090241
CREATED:20241218T074958Z
LAST-MODIFIED:20241218T074958Z
UID:2162-1764781200-1764788400@oskarshamn.vansterpartiet.se
SUMMARY:Medlemscafé
DESCRIPTION:Alla medlemmar och sympatisörer är välkomna med drop-in mellan kl 17-19. Vi håller till i vår partilokal på Södra Fabriksgatan 20\, två trappor upp där vi fikar och pratar om allt möjligt mellan himmel och jord.\n-Välkomna!
URL:https://oskarshamn.vansterpartiet.se/event/medlemscafe-27/
LOCATION:Partilokalen\, Södra Fabriksgatan 20\, Oskarshamn
ATTACH;FMTTYPE=image/jpeg:https://oskarshamn.vansterpartiet.se/files/2018/05/34653983-BA4A-4BFA-A493-1DBD92C75B72-e1701943746922.jpeg
END:VEVENT
BEGIN:VEVENT
DTSTART;TZID=Europe/Stockholm:20251214T180000
DTEND;TZID=Europe/Stockholm:20251214T200000
DTSTAMP:20260421T090241
CREATED:20241218T073518Z
LAST-MODIFIED:20241218T073518Z
UID:2142-1765735200-1765742400@oskarshamn.vansterpartiet.se
SUMMARY:Gruppmöte
DESCRIPTION:Öppet gruppmöte för alla medlemmar. Här går vi igenom handlingarna inför Kommunstyrelsens möte\, samt andra aktuella ärenden i de olika nämnderna och utskotten.
URL:https://oskarshamn.vansterpartiet.se/event/gruppmote-30/
LOCATION:Kommunhuset\, Kristdalarummet
ATTACH;FMTTYPE=image/jpeg:https://oskarshamn.vansterpartiet.se/files/2023/04/v-tillsammans-scaled-e1682346109732.jpg
END:VEVENT
BEGIN:VEVENT
DTSTART;TZID=Europe/Stockholm:20260204T170000
DTEND;TZID=Europe/Stockholm:20260204T190000
DTSTAMP:20260421T090241
CREATED:20251215T094533Z
LAST-MODIFIED:20251215T094533Z
UID:2273-1770224400-1770231600@oskarshamn.vansterpartiet.se
SUMMARY:Medlemscafé
DESCRIPTION:Alla medlemmar och sympatisörer är välkomna med drop-in mellan kl 17-19. Vi håller till i vår partilokal på Södra Fabriksgatan 20\, två trappor upp där vi fikar och pratar om allt möjligt mellan himmel och jord.\n-Välkomna!
URL:https://oskarshamn.vansterpartiet.se/event/medlemscafe-28/
LOCATION:Partilokalen\, Södra Fabriksgatan 20\, Oskarshamn
ATTACH;FMTTYPE=image/jpeg:https://oskarshamn.vansterpartiet.se/files/2018/05/34653983-BA4A-4BFA-A493-1DBD92C75B72-e1701943746922.jpeg
END:VEVENT
BEGIN:VEVENT
DTSTART;TZID=Europe/Stockholm:20260223T180000
DTEND;TZID=Europe/Stockholm:20260223T200000
DTSTAMP:20260421T090241
CREATED:20251215T092443Z
LAST-MODIFIED:20251215T092617Z
UID:2251-1771869600-1771876800@oskarshamn.vansterpartiet.se
SUMMARY:Gruppmöte
DESCRIPTION:Gruppmöte öppet för medlemmar.\nHär går vi igenom handlingarna inför kommunstyrelsen.
URL:https://oskarshamn.vansterpartiet.se/event/gruppmote-32/
LOCATION:Kommunhuset\, Döderhultsrummet
ATTACH;FMTTYPE=image/jpeg:https://oskarshamn.vansterpartiet.se/files/2023/04/v-tillsammans-scaled-e1682346109732.jpg
END:VEVENT
BEGIN:VEVENT
DTSTART;TZID=Europe/Stockholm:20260301T173000
DTEND;TZID=Europe/Stockholm:20260301T203000
DTSTAMP:20260421T090241
CREATED:20251013T162038Z
LAST-MODIFIED:20251215T114407Z
UID:2239-1772386200-1772397000@oskarshamn.vansterpartiet.se
SUMMARY:Årsmöte
DESCRIPTION:Partiföreningens årsmöte där bla val av styrelse samt fastställande av kommunfullmäktigelista sker.\nMötet hålls på Forum och vi bjuder på mat. Anmälan samt önskemål om specialkost sker via mail till oskarshamn@vansterpartiet.se senast 18 Februari.
URL:https://oskarshamn.vansterpartiet.se/event/arsmote-3/
LOCATION:Forum\, Södra Långgatan 15-17\, Oskarshamn
ATTACH;FMTTYPE=image/jpeg:https://oskarshamn.vansterpartiet.se/files/2024/02/428442250_706416961672507_3529483612609486497_n.jpg
END:VEVENT
BEGIN:VEVENT
DTSTART;TZID=Europe/Stockholm:20260304T170000
DTEND;TZID=Europe/Stockholm:20260304T190000
DTSTAMP:20260421T090241
CREATED:20251215T094719Z
LAST-MODIFIED:20251215T094719Z
UID:2275-1772643600-1772650800@oskarshamn.vansterpartiet.se
SUMMARY:Medlemscafé
DESCRIPTION:Alla medlemmar och sympatisörer är välkomna med drop-in mellan kl 17-19. Vi håller till i vår partilokal på Södra Fabriksgatan 20\, två trappor upp där vi fikar och pratar om allt möjligt mellan himmel och jord.\n-Välkomna!
URL:https://oskarshamn.vansterpartiet.se/event/medlemscafe-29/
LOCATION:Partilokalen\, Södra Fabriksgatan 20\, Oskarshamn
ATTACH;FMTTYPE=image/jpeg:https://oskarshamn.vansterpartiet.se/files/2018/05/34653983-BA4A-4BFA-A493-1DBD92C75B72-e1701943746922.jpeg
END:VEVENT
BEGIN:VEVENT
DTSTART;TZID=Europe/Stockholm:20260323T180000
DTEND;TZID=Europe/Stockholm:20260323T200000
DTSTAMP:20260421T090241
CREATED:20251215T092532Z
LAST-MODIFIED:20251215T092640Z
UID:2253-1774288800-1774296000@oskarshamn.vansterpartiet.se
SUMMARY:Gruppmöte
DESCRIPTION:Gruppmöte öppet för medlemmar.\nHär går vi igenom handlingarna inför kommunstyrelsen.
URL:https://oskarshamn.vansterpartiet.se/event/gruppmote-33/
LOCATION:Kommunhuset\, Döderhultsrummet
ATTACH;FMTTYPE=image/jpeg:https://oskarshamn.vansterpartiet.se/files/2023/04/v-tillsammans-scaled-e1682346109732.jpg
END:VEVENT
BEGIN:VEVENT
DTSTART;TZID=Europe/Stockholm:20260401T170000
DTEND;TZID=Europe/Stockholm:20260401T190000
DTSTAMP:20260421T090241
CREATED:20251215T094911Z
LAST-MODIFIED:20251215T094911Z
UID:2277-1775062800-1775070000@oskarshamn.vansterpartiet.se
SUMMARY:Medlemscafé
DESCRIPTION:Alla medlemmar och sympatisörer är välkomna med drop-in mellan kl 17-19. Vi håller till i vår partilokal på Södra Fabriksgatan 20\, två trappor upp där vi fikar och pratar om allt möjligt mellan himmel och jord.\n-Välkomna!
URL:https://oskarshamn.vansterpartiet.se/event/medlemscafe-30/
LOCATION:Partilokalen\, Södra Fabriksgatan 20\, Oskarshamn
ATTACH;FMTTYPE=image/jpeg:https://oskarshamn.vansterpartiet.se/files/2018/05/34653983-BA4A-4BFA-A493-1DBD92C75B72-e1701943746922.jpeg
END:VEVENT
BEGIN:VEVENT
DTSTART;TZID=Europe/Stockholm:20260412T120000
DTEND;TZID=Europe/Stockholm:20260412T150000
DTSTAMP:20260421T090241
CREATED:20260410T122529Z
LAST-MODIFIED:20260410T122645Z
UID:2394-1775995200-1776006000@oskarshamn.vansterpartiet.se
SUMMARY:Dörrknackning
DESCRIPTION:Söndagen den 12/4 är det dags för dörrknackningspremiär i Oskarshamn!\nVi träffas vid Kristineberg Centrum (vid kyrkan) klockan 12:00 för en kortare genomgång av hur det går till att knacka dörr\, sedan drar vi ut och knackar i Kristineberg.\nIngen tidigare erfarenhet krävs utan alla som vill hjälpa till är välkomna!
URL:https://oskarshamn.vansterpartiet.se/event/2394/
CATEGORIES:Aktivitet
ATTACH;FMTTYPE=image/png:https://oskarshamn.vansterpartiet.se/files/2026/04/Dorrknackning.png
END:VEVENT
BEGIN:VEVENT
DTSTART;TZID=Europe/Stockholm:20260427T180000
DTEND;TZID=Europe/Stockholm:20260427T200000
DTSTAMP:20260421T090241
CREATED:20251215T092801Z
LAST-MODIFIED:20251215T092801Z
UID:2255-1777312800-1777320000@oskarshamn.vansterpartiet.se
SUMMARY:Gruppmöte
DESCRIPTION:Gruppmöte öppet för medlemmar.\nHär går vi igenom handlingarna inför kommunstyrelsen.
URL:https://oskarshamn.vansterpartiet.se/event/gruppmote-34/
LOCATION:Kommunhuset\, Döderhultsrummet
ATTACH;FMTTYPE=image/jpeg:https://oskarshamn.vansterpartiet.se/files/2023/04/v-tillsammans-scaled-e1682346109732.jpg
END:VEVENT
BEGIN:VEVENT
DTSTART;VALUE=DATE:20260501
DTEND;VALUE=DATE:20260502
DTSTAMP:20260421T090241
CREATED:20260204T133034Z
LAST-MODIFIED:20260416T123121Z
UID:2318-1777593600-1777679999@oskarshamn.vansterpartiet.se
SUMMARY:1 Maj
DESCRIPTION:Efter förra årets firande i Oskarshamn återgår vi till ett länsgemensamt firande.\nNytt för i år är att distriktet anordnar två tåg\, ett i Kalmar och ett i Vimmerby.\nDessutom anordnas ett gemensamt arbetartåg i Hultsfred där både S och V är medarrangörer.
URL:https://oskarshamn.vansterpartiet.se/event/1-maj-2/
CATEGORIES:Aktivitet
ATTACH;FMTTYPE=image/jpeg:https://oskarshamn.vansterpartiet.se/files/2023/05/1maj2023.jpg
END:VEVENT
BEGIN:VEVENT
DTSTART;TZID=Europe/Stockholm:20260504T180000
DTEND;TZID=Europe/Stockholm:20260504T210000
DTSTAMP:20260421T090241
CREATED:20260416T121347Z
LAST-MODIFIED:20260416T121347Z
UID:2399-1777917600-1777928400@oskarshamn.vansterpartiet.se
SUMMARY:Grupp-/Medlemsmöte
DESCRIPTION:Extra grupp- och medlemsmöte där vi går igenom vårt budgetförslag samt beslut om valplattformen.
URL:https://oskarshamn.vansterpartiet.se/event/grupp-medlemsmote/
LOCATION:Kommunhuset\, Döderhultsrummet
CATEGORIES:Möte
ATTACH;FMTTYPE=image/jpeg:https://oskarshamn.vansterpartiet.se/files/2022/08/Vänsterpartiet_A5_8sidor_2022_korr3_page-0001.jpg
END:VEVENT
BEGIN:VEVENT
DTSTART;TZID=Europe/Stockholm:20260506T170000
DTEND;TZID=Europe/Stockholm:20260506T190000
DTSTAMP:20260421T090241
CREATED:20251215T095039Z
LAST-MODIFIED:20251215T095039Z
UID:2279-1778086800-1778094000@oskarshamn.vansterpartiet.se
SUMMARY:Medlemscafé
DESCRIPTION:Alla medlemmar och sympatisörer är välkomna med drop-in mellan kl 17-19. Vi håller till i vår partilokal på Södra Fabriksgatan 20\, två trappor upp där vi fikar och pratar om allt möjligt mellan himmel och jord.\n-Välkomna!
URL:https://oskarshamn.vansterpartiet.se/event/medlemscafe-31/
LOCATION:Partilokalen\, Södra Fabriksgatan 20\, Oskarshamn
ATTACH;FMTTYPE=image/jpeg:https://oskarshamn.vansterpartiet.se/files/2018/05/34653983-BA4A-4BFA-A493-1DBD92C75B72-e1701943746922.jpeg
END:VEVENT
BEGIN:VEVENT
DTSTART;TZID=Europe/Stockholm:20260524T180000
DTEND;TZID=Europe/Stockholm:20260524T200000
DTSTAMP:20260421T090241
CREATED:20251215T092904Z
LAST-MODIFIED:20251215T092904Z
UID:2257-1779645600-1779652800@oskarshamn.vansterpartiet.se
SUMMARY:Gruppmöte
DESCRIPTION:Gruppmöte öppet för medlemmar.\nHär går vi igenom handlingarna inför kommunstyrelsen.
URL:https://oskarshamn.vansterpartiet.se/event/gruppmote-35/
LOCATION:Kommunhuset\, Döderhultsrummet
ATTACH;FMTTYPE=image/jpeg:https://oskarshamn.vansterpartiet.se/files/2023/04/v-tillsammans-scaled-e1682346109732.jpg
END:VEVENT
BEGIN:VEVENT
DTSTART;TZID=Europe/Stockholm:20260530T090000
DTEND;TZID=Europe/Stockholm:20260530T170000
DTSTAMP:20260421T090241
CREATED:20260129T115814Z
LAST-MODIFIED:20260312T193607Z
UID:2316-1780131600-1780160400@oskarshamn.vansterpartiet.se
SUMMARY:Tolvskillingsmarken
DESCRIPTION:Vi står på Tolvskillingsmarken och träffar väljare.\nKom gärna och säg hej!\nMedlemmar behövs för att bemanna tältet. -Kan du ställa upp\, kontakta någon i styrelsen!
URL:https://oskarshamn.vansterpartiet.se/event/tolvskillingsmarken-3/
LOCATION:Oskarshamn
CATEGORIES:Aktivitet
ATTACH;FMTTYPE=image/jpeg:https://oskarshamn.vansterpartiet.se/files/2024/06/Resized_20240525_102144.jpg
END:VEVENT
BEGIN:VEVENT
DTSTART;TZID=Europe/Stockholm:20260603T170000
DTEND;TZID=Europe/Stockholm:20260603T190000
DTSTAMP:20260421T090241
CREATED:20251215T095204Z
LAST-MODIFIED:20251215T095204Z
UID:2281-1780506000-1780513200@oskarshamn.vansterpartiet.se
SUMMARY:Medlemscafé
DESCRIPTION:Alla medlemmar och sympatisörer är välkomna med drop-in mellan kl 17-19. Vi håller till i vår partilokal på Södra Fabriksgatan 20\, två trappor upp där vi fikar och pratar om allt möjligt mellan himmel och jord.\n-Välkomna!
URL:https://oskarshamn.vansterpartiet.se/event/medlemscafe-32/
LOCATION:Partilokalen\, Södra Fabriksgatan 20\, Oskarshamn
ATTACH;FMTTYPE=image/jpeg:https://oskarshamn.vansterpartiet.se/files/2018/05/34653983-BA4A-4BFA-A493-1DBD92C75B72-e1701943746922.jpeg
END:VEVENT
BEGIN:VEVENT
DTSTART;TZID=Europe/Stockholm:20260615T180000
DTEND;TZID=Europe/Stockholm:20260615T200000
DTSTAMP:20260421T090241
CREATED:20251215T092951Z
LAST-MODIFIED:20251215T092951Z
UID:2259-1781546400-1781553600@oskarshamn.vansterpartiet.se
SUMMARY:Gruppmöte
DESCRIPTION:Gruppmöte öppet för medlemmar.\nHär går vi igenom handlingarna inför kommunstyrelsen.
URL:https://oskarshamn.vansterpartiet.se/event/gruppmote-36/
ATTACH;FMTTYPE=image/jpeg:https://oskarshamn.vansterpartiet.se/files/2023/04/v-tillsammans-scaled-e1682346109732.jpg
END:VEVENT
BEGIN:VEVENT
DTSTART;TZID=Europe/Stockholm:20260701T170000
DTEND;TZID=Europe/Stockholm:20260701T190000
DTSTAMP:20260421T090241
CREATED:20251215T095345Z
LAST-MODIFIED:20251215T095345Z
UID:2283-1782925200-1782932400@oskarshamn.vansterpartiet.se
SUMMARY:Medlemscafé
DESCRIPTION:Alla medlemmar och sympatisörer är välkomna med drop-in mellan kl 17-19. Vi håller till i vår partilokal på Södra Fabriksgatan 20\, två trappor upp där vi fikar och pratar om allt möjligt mellan himmel och jord.\n-Välkomna!
URL:https://oskarshamn.vansterpartiet.se/event/medlemscafe-33/
LOCATION:Partilokalen\, Södra Fabriksgatan 20\, Oskarshamn
ATTACH;FMTTYPE=image/jpeg:https://oskarshamn.vansterpartiet.se/files/2018/05/34653983-BA4A-4BFA-A493-1DBD92C75B72-e1701943746922.jpeg
END:VEVENT
BEGIN:VEVENT
DTSTART;TZID=Europe/Stockholm:20260831T180000
DTEND;TZID=Europe/Stockholm:20260831T200000
DTSTAMP:20260421T090241
CREATED:20251215T093053Z
LAST-MODIFIED:20251215T093053Z
UID:2261-1788199200-1788206400@oskarshamn.vansterpartiet.se
SUMMARY:Gruppmöte
DESCRIPTION:Gruppmöte öppet för medlemmar.\nHär går vi igenom handlingarna inför kommunstyrelsen.
URL:https://oskarshamn.vansterpartiet.se/event/gruppmote-37/
LOCATION:Kommunhuset\, Döderhultsrummet
ATTACH;FMTTYPE=image/jpeg:https://oskarshamn.vansterpartiet.se/files/2023/04/v-tillsammans-scaled-e1682346109732.jpg
END:VEVENT
BEGIN:VEVENT
DTSTART;TZID=Europe/Stockholm:20260902T170000
DTEND;TZID=Europe/Stockholm:20260902T190000
DTSTAMP:20260421T090241
CREATED:20251215T095517Z
LAST-MODIFIED:20251215T095517Z
UID:2285-1788368400-1788375600@oskarshamn.vansterpartiet.se
SUMMARY:Medlemscafé
DESCRIPTION:Alla medlemmar och sympatisörer är välkomna med drop-in mellan kl 17-19. Vi håller till i vår partilokal på Södra Fabriksgatan 20\, två trappor upp där vi fikar och pratar om allt möjligt mellan himmel och jord.\n-Välkomna!
URL:https://oskarshamn.vansterpartiet.se/event/medlemscafe-34/
LOCATION:Partilokalen\, Södra Fabriksgatan 20\, Oskarshamn
ATTACH;FMTTYPE=image/jpeg:https://oskarshamn.vansterpartiet.se/files/2018/05/34653983-BA4A-4BFA-A493-1DBD92C75B72-e1701943746922.jpeg
END:VEVENT
END:VCALENDAR