BEGIN:VCALENDAR
VERSION:2.0
PRODID:-//Vänsterpartiet Oskarshamn - ECPv6.15.17.1//NONSGML v1.0//EN
CALSCALE:GREGORIAN
METHOD:PUBLISH
X-ORIGINAL-URL:https://oskarshamn.vansterpartiet.se
X-WR-CALDESC:Händelser för Vänsterpartiet Oskarshamn
REFRESH-INTERVAL;VALUE=DURATION:PT1H
X-Robots-Tag:noindex
X-PUBLISHED-TTL:PT1H
BEGIN:VTIMEZONE
TZID:Europe/Stockholm
BEGIN:DAYLIGHT
TZOFFSETFROM:+0100
TZOFFSETTO:+0200
TZNAME:CEST
DTSTART:20250330T010000
END:DAYLIGHT
BEGIN:STANDARD
TZOFFSETFROM:+0200
TZOFFSETTO:+0100
TZNAME:CET
DTSTART:20251026T010000
END:STANDARD
BEGIN:DAYLIGHT
TZOFFSETFROM:+0100
TZOFFSETTO:+0200
TZNAME:CEST
DTSTART:20260329T010000
END:DAYLIGHT
BEGIN:STANDARD
TZOFFSETFROM:+0200
TZOFFSETTO:+0100
TZNAME:CET
DTSTART:20261025T010000
END:STANDARD
BEGIN:DAYLIGHT
TZOFFSETFROM:+0100
TZOFFSETTO:+0200
TZNAME:CEST
DTSTART:20270328T010000
END:DAYLIGHT
BEGIN:STANDARD
TZOFFSETFROM:+0200
TZOFFSETTO:+0100
TZNAME:CET
DTSTART:20271031T010000
END:STANDARD
END:VTIMEZONE
BEGIN:VEVENT
DTSTART;VALUE=DATE:20260501
DTEND;VALUE=DATE:20260502
DTSTAMP:20260421T005459
CREATED:20260204T133034Z
LAST-MODIFIED:20260416T123121Z
UID:2318-1777593600-1777679999@oskarshamn.vansterpartiet.se
SUMMARY:1 Maj
DESCRIPTION:Efter förra årets firande i Oskarshamn återgår vi till ett länsgemensamt firande.\nNytt för i år är att distriktet anordnar två tåg\, ett i Kalmar och ett i Vimmerby.\nDessutom anordnas ett gemensamt arbetartåg i Hultsfred där både S och V är medarrangörer.
URL:https://oskarshamn.vansterpartiet.se/event/1-maj-2/
CATEGORIES:Aktivitet
ATTACH;FMTTYPE=image/jpeg:https://oskarshamn.vansterpartiet.se/files/2023/05/1maj2023.jpg
END:VEVENT
BEGIN:VEVENT
DTSTART;TZID=Europe/Stockholm:20260530T090000
DTEND;TZID=Europe/Stockholm:20260530T170000
DTSTAMP:20260421T005459
CREATED:20260129T115814Z
LAST-MODIFIED:20260312T193607Z
UID:2316-1780131600-1780160400@oskarshamn.vansterpartiet.se
SUMMARY:Tolvskillingsmarken
DESCRIPTION:Vi står på Tolvskillingsmarken och träffar väljare.\nKom gärna och säg hej!\nMedlemmar behövs för att bemanna tältet. -Kan du ställa upp\, kontakta någon i styrelsen!
URL:https://oskarshamn.vansterpartiet.se/event/tolvskillingsmarken-3/
LOCATION:Oskarshamn
CATEGORIES:Aktivitet
ATTACH;FMTTYPE=image/jpeg:https://oskarshamn.vansterpartiet.se/files/2024/06/Resized_20240525_102144.jpg
END:VEVENT
END:VCALENDAR